BEGIN:VCALENDAR
VERSION:2.0
PRODID:-//Bismarck Parks &amp; Recreation - ECPv6.15.20//NONSGML v1.0//EN
CALSCALE:GREGORIAN
METHOD:PUBLISH
X-WR-CALNAME:Bismarck Parks &amp; Recreation
X-ORIGINAL-URL:https://www.bisparks.org
X-WR-CALDESC:Events for Bismarck Parks &amp; Recreation
REFRESH-INTERVAL;VALUE=DURATION:PT1H
X-Robots-Tag:noindex
X-PUBLISHED-TTL:PT1H
BEGIN:VTIMEZONE
TZID:America/North_Dakota/Center
BEGIN:DAYLIGHT
TZOFFSETFROM:-0600
TZOFFSETTO:-0500
TZNAME:CDT
DTSTART:20250309T080000
END:DAYLIGHT
BEGIN:STANDARD
TZOFFSETFROM:-0500
TZOFFSETTO:-0600
TZNAME:CST
DTSTART:20251102T070000
END:STANDARD
BEGIN:DAYLIGHT
TZOFFSETFROM:-0600
TZOFFSETTO:-0500
TZNAME:CDT
DTSTART:20260308T080000
END:DAYLIGHT
BEGIN:STANDARD
TZOFFSETFROM:-0500
TZOFFSETTO:-0600
TZNAME:CST
DTSTART:20261101T070000
END:STANDARD
BEGIN:DAYLIGHT
TZOFFSETFROM:-0600
TZOFFSETTO:-0500
TZNAME:CDT
DTSTART:20270314T080000
END:DAYLIGHT
BEGIN:STANDARD
TZOFFSETFROM:-0500
TZOFFSETTO:-0600
TZNAME:CST
DTSTART:20271107T070000
END:STANDARD
END:VTIMEZONE
BEGIN:VEVENT
DTSTART;TZID=America/North_Dakota/Center:20260612T103000
DTEND;TZID=America/North_Dakota/Center:20260612T120000
DTSTAMP:20260422T031523
CREATED:20251125T222313Z
LAST-MODIFIED:20260420T142122Z
UID:10000052-1781260200-1781265600@www.bisparks.org
SUMMARY:Junior Team Tennis Challenge
DESCRIPTION:Sertoma Park Tennis Complex\, 300 Riverside Park Rd. \nParticipants get an introduction to competition for players using a red\, orange\, or green ball based on age. This low-level competitive play experience highlights teamwork and skill development in a fun social environment. \nPlayers enter as individuals and will be matched with others of similar ability to form teams. Parents are encouraged to sign up to be on court helpers. Awards are given to each participant for competing! \nNeed to Know\n\nAges: 7-12\nFee: $7 per player\nRacquets are provided for those who need one.\nRegistration Deadline: 10:00pm the day prior to the event\n\nREGISTER NOW
URL:https://www.bisparks.org/event/junior-team-tennis-challenge/2026-06-12/
CATEGORIES:Tennis Events
ATTACH;FMTTYPE=image/jpeg:https://www.bisparks.org/wp-content/uploads/2026/03/Youth-Tennis-2022.jpg
END:VEVENT
BEGIN:VEVENT
DTSTART;TZID=America/North_Dakota/Center:20260619T103000
DTEND;TZID=America/North_Dakota/Center:20260619T120000
DTSTAMP:20260422T031523
CREATED:20251125T222313Z
LAST-MODIFIED:20260420T142122Z
UID:10000053-1781865000-1781870400@www.bisparks.org
SUMMARY:Junior Team Tennis Challenge
DESCRIPTION:Sertoma Park Tennis Complex\, 300 Riverside Park Rd. \nParticipants get an introduction to competition for players using a red\, orange\, or green ball based on age. This low-level competitive play experience highlights teamwork and skill development in a fun social environment. \nPlayers enter as individuals and will be matched with others of similar ability to form teams. Parents are encouraged to sign up to be on court helpers. Awards are given to each participant for competing! \nNeed to Know\n\nAges: 7-12\nFee: $7 per player\nRacquets are provided for those who need one.\nRegistration Deadline: 10:00pm the day prior to the event\n\nREGISTER NOW
URL:https://www.bisparks.org/event/junior-team-tennis-challenge/2026-06-19/
CATEGORIES:Tennis Events
ATTACH;FMTTYPE=image/jpeg:https://www.bisparks.org/wp-content/uploads/2026/03/Youth-Tennis-2022.jpg
END:VEVENT
BEGIN:VEVENT
DTSTART;TZID=America/North_Dakota/Center:20260717T103000
DTEND;TZID=America/North_Dakota/Center:20260717T120000
DTSTAMP:20260422T031523
CREATED:20251125T222313Z
LAST-MODIFIED:20260420T142122Z
UID:10000054-1784284200-1784289600@www.bisparks.org
SUMMARY:Junior Team Tennis Challenge
DESCRIPTION:Sertoma Park Tennis Complex\, 300 Riverside Park Rd. \nParticipants get an introduction to competition for players using a red\, orange\, or green ball based on age. This low-level competitive play experience highlights teamwork and skill development in a fun social environment. \nPlayers enter as individuals and will be matched with others of similar ability to form teams. Parents are encouraged to sign up to be on court helpers. Awards are given to each participant for competing! \nNeed to Know\n\nAges: 7-12\nFee: $7 per player\nRacquets are provided for those who need one.\nRegistration Deadline: 10:00pm the day prior to the event\n\nREGISTER NOW
URL:https://www.bisparks.org/event/junior-team-tennis-challenge/2026-07-17/
CATEGORIES:Tennis Events
ATTACH;FMTTYPE=image/jpeg:https://www.bisparks.org/wp-content/uploads/2026/03/Youth-Tennis-2022.jpg
END:VEVENT
BEGIN:VEVENT
DTSTART;TZID=America/North_Dakota/Center:20260724T103000
DTEND;TZID=America/North_Dakota/Center:20260724T120000
DTSTAMP:20260422T031523
CREATED:20251125T222313Z
LAST-MODIFIED:20260420T142122Z
UID:10000055-1784889000-1784894400@www.bisparks.org
SUMMARY:Junior Team Tennis Challenge
DESCRIPTION:Sertoma Park Tennis Complex\, 300 Riverside Park Rd. \nParticipants get an introduction to competition for players using a red\, orange\, or green ball based on age. This low-level competitive play experience highlights teamwork and skill development in a fun social environment. \nPlayers enter as individuals and will be matched with others of similar ability to form teams. Parents are encouraged to sign up to be on court helpers. Awards are given to each participant for competing! \nNeed to Know\n\nAges: 7-12\nFee: $7 per player\nRacquets are provided for those who need one.\nRegistration Deadline: 10:00pm the day prior to the event\n\nREGISTER NOW
URL:https://www.bisparks.org/event/junior-team-tennis-challenge/2026-07-24/
CATEGORIES:Tennis Events
ATTACH;FMTTYPE=image/jpeg:https://www.bisparks.org/wp-content/uploads/2026/03/Youth-Tennis-2022.jpg
END:VEVENT
END:VCALENDAR